BEGIN:VCALENDAR
VERSION:2.0
PRODID:-//Southern Jersey Family Medical Centers - ECPv6.15.20//NONSGML v1.0//EN
CALSCALE:GREGORIAN
METHOD:PUBLISH
X-ORIGINAL-URL:https://www.sjfmc.org
X-WR-CALDESC:Events for Southern Jersey Family Medical Centers
REFRESH-INTERVAL;VALUE=DURATION:PT1H
X-Robots-Tag:noindex
X-PUBLISHED-TTL:PT1H
BEGIN:VTIMEZONE
TZID:America/New_York
BEGIN:DAYLIGHT
TZOFFSETFROM:-0500
TZOFFSETTO:-0400
TZNAME:EDT
DTSTART:20250309T070000
END:DAYLIGHT
BEGIN:STANDARD
TZOFFSETFROM:-0400
TZOFFSETTO:-0500
TZNAME:EST
DTSTART:20251102T060000
END:STANDARD
BEGIN:DAYLIGHT
TZOFFSETFROM:-0500
TZOFFSETTO:-0400
TZNAME:EDT
DTSTART:20260308T070000
END:DAYLIGHT
BEGIN:STANDARD
TZOFFSETFROM:-0400
TZOFFSETTO:-0500
TZNAME:EST
DTSTART:20261101T060000
END:STANDARD
BEGIN:DAYLIGHT
TZOFFSETFROM:-0500
TZOFFSETTO:-0400
TZNAME:EDT
DTSTART:20270314T070000
END:DAYLIGHT
BEGIN:STANDARD
TZOFFSETFROM:-0400
TZOFFSETTO:-0500
TZNAME:EST
DTSTART:20271107T060000
END:STANDARD
END:VTIMEZONE
BEGIN:VEVENT
DTSTART;TZID=America/New_York:20260414T100000
DTEND;TZID=America/New_York:20260414T140000
DTSTAMP:20260424T124341
CREATED:20260318T151438Z
LAST-MODIFIED:20260318T151438Z
UID:23659-1776160800-1776175200@www.sjfmc.org
SUMMARY:CDBG Resource  Re-Entry Resource Fair
DESCRIPTION:Health Screening.\, Docto’s Appointments
URL:https://www.sjfmc.org/event/cdbg-resource-re-entry-resource-fair/
LOCATION:All Wars Memorial Building\, 1510 Adriatic Avene\, Atlantic City NJ 08401\, 1510 Adriatic Avenue\, Atlantic City\, NJ 08401
ORGANIZER;CN="Michelle Griffin &amp%3B Alesia Watson":MAILTO:ACHR@acnj.gov
END:VEVENT
BEGIN:VEVENT
DTSTART;TZID=America/New_York:20260415T110000
DTEND;TZID=America/New_York:20260415T130000
DTSTAMP:20260424T124341
CREATED:20260417T161922Z
LAST-MODIFIED:20260417T161922Z
UID:23694-1776250800-1776258000@www.sjfmc.org
SUMMARY:Black maternal health week celebration
DESCRIPTION:
URL:https://www.sjfmc.org/event/black-maternal-health-week-celebration/
LOCATION:NJ
ORGANIZER;CN="Chanel Williams":MAILTO:Chanel.Williams@sjfmc.org
END:VEVENT
BEGIN:VEVENT
DTSTART;TZID=America/New_York:20260417T153000
DTEND;TZID=America/New_York:20260417T170000
DTSTAMP:20260424T124341
CREATED:20260417T161922Z
LAST-MODIFIED:20260417T161922Z
UID:23695-1776439800-1776445200@www.sjfmc.org
SUMMARY:Healthy Me Event - Pleasantville Middle School
DESCRIPTION:
URL:https://www.sjfmc.org/event/healthy-me-event-pleasantville-middle-school/
LOCATION:NJ
ORGANIZER;CN="Shontele Madison":MAILTO:shontele.madison@sjfmc.org
END:VEVENT
BEGIN:VEVENT
DTSTART;TZID=America/New_York:20260418T110000
DTEND;TZID=America/New_York:20260418T150000
DTSTAMP:20260424T124341
CREATED:20260417T161922Z
LAST-MODIFIED:20260417T161922Z
UID:23696-1776510000-1776524400@www.sjfmc.org
SUMMARY:Childrens Health Fair
DESCRIPTION:
URL:https://www.sjfmc.org/event/childrens-health-fair-2/
LOCATION:NJ
ORGANIZER;CN="Shontele Madison":MAILTO:shontele.madison@sjfmc.org
END:VEVENT
BEGIN:VEVENT
DTSTART;TZID=America/New_York:20260422T130000
DTEND;TZID=America/New_York:20260422T150000
DTSTAMP:20260424T124341
CREATED:20260417T161922Z
LAST-MODIFIED:20260417T161922Z
UID:23697-1776862800-1776870000@www.sjfmc.org
SUMMARY:Black Maternal Health Week
DESCRIPTION:
URL:https://www.sjfmc.org/event/black-maternal-health-week/
LOCATION:NJ
ORGANIZER;CN="Shontele Madison":MAILTO:shontele.madison@sjfmc.org
END:VEVENT
BEGIN:VEVENT
DTSTART;TZID=America/New_York:20260424T110000
DTEND;TZID=America/New_York:20260424T120000
DTSTAMP:20260424T124341
CREATED:20260417T161922Z
LAST-MODIFIED:20260417T161922Z
UID:23698-1777028400-1777032000@www.sjfmc.org
SUMMARY:SICKLE CELL FOOD AND CLOTHING PANTRY 
DESCRIPTION:
URL:https://www.sjfmc.org/event/sickle-cell-food-and-clothing-pantry/
LOCATION:NJ
ORGANIZER;CN="Chanel Williams":MAILTO:Chanel.Williams@sjfmc.org
END:VEVENT
BEGIN:VEVENT
DTSTART;TZID=America/New_York:20260429T080000
DTEND;TZID=America/New_York:20260429T144500
DTSTAMP:20260424T124341
CREATED:20260417T161925Z
LAST-MODIFIED:20260417T161926Z
UID:23699-1777449600-1777473900@www.sjfmc.org
SUMMARY:Virtua Mammogram
DESCRIPTION:
URL:https://www.sjfmc.org/event/virtua-mammogram/
LOCATION:NJ
ORGANIZER;CN="Chanel Williams":MAILTO:Chanel.Williams@sjfmc.org
END:VEVENT
BEGIN:VEVENT
DTSTART;TZID=America/New_York:20260430T100000
DTEND;TZID=America/New_York:20260430T140000
DTSTAMP:20260424T124341
CREATED:20260417T161925Z
LAST-MODIFIED:20260417T161926Z
UID:23700-1777543200-1777557600@www.sjfmc.org
SUMMARY:Child Abuse Prevention Wellness Fair
DESCRIPTION:
URL:https://www.sjfmc.org/event/child-abuse-prevention-wellness-fair/
LOCATION:NJ
ORGANIZER;CN="Shontele Madison":MAILTO:shontele.madison@sjfmc.org
END:VEVENT
BEGIN:VEVENT
DTSTART;TZID=America/New_York:20260502T140000
DTEND;TZID=America/New_York:20260502T170000
DTSTAMP:20260424T124341
CREATED:20260318T151438Z
LAST-MODIFIED:20260417T161926Z
UID:23660-1777730400-1777741200@www.sjfmc.org
SUMMARY:Black Family Wellness expo
DESCRIPTION:Family wellness community event
URL:https://www.sjfmc.org/event/black-family-wellness-expo/
LOCATION:Boys & Girls Club\, 317 N. Pennsylvania Ave\, Atlantic City NJ
ORGANIZER;CN="The Links &amp%3B Alesia Watson":MAILTO:linksheliapeircewilliams@gmail.com
END:VEVENT
BEGIN:VEVENT
DTSTART;TZID=America/New_York:20260505T090000
DTEND;TZID=America/New_York:20260505T120000
DTSTAMP:20260424T124341
CREATED:20260318T151453Z
LAST-MODIFIED:20260417T162317Z
UID:23663-1777971600-1777982400@www.sjfmc.org
SUMMARY:Pleasantville School  Food Distribution
DESCRIPTION:Food Distribution\, health screenings and Doctor;s appointment
URL:https://www.sjfmc.org/event/pleasantville-school-food-distribution-2/
LOCATION:Pleasantville High School\, 701 Mill Rd\, Pleasantville NJ 08232
ORGANIZER;CN="Martha Arrizon &amp%3B Laura Labistian":MAILTO:arrizon.martha@pps-nj.us
END:VEVENT
BEGIN:VEVENT
DTSTART;TZID=America/New_York:20260602T090000
DTEND;TZID=America/New_York:20260602T120000
DTSTAMP:20260424T124341
CREATED:20260318T151453Z
LAST-MODIFIED:20260318T152159Z
UID:23664-1780390800-1780401600@www.sjfmc.org
SUMMARY:Pleasantville School  Food Distribution
DESCRIPTION:Food Distribution\, health screenings and Doctor’s appointment
URL:https://www.sjfmc.org/event/pleasantville-school-food-distribution-3/
LOCATION:Pleasantville High School\, 701 Mill Rd\, Pleasantville NJ 08232
ORGANIZER;CN="Martha Arrizon &amp%3B Laura Labistian":MAILTO:arrizon.martha@pps-nj.us
END:VEVENT
END:VCALENDAR